BEGIN:VCALENDAR
VERSION:2.0
PRODID:-//Steuben Fish &amp; Game Club - ECPv6.15.20//NONSGML v1.0//EN
CALSCALE:GREGORIAN
METHOD:PUBLISH
X-ORIGINAL-URL:https://steubenfgc.com
X-WR-CALDESC:Events for Steuben Fish &amp; Game Club
REFRESH-INTERVAL;VALUE=DURATION:PT1H
X-Robots-Tag:noindex
X-PUBLISHED-TTL:PT1H
BEGIN:VTIMEZONE
TZID:UTC
BEGIN:STANDARD
TZOFFSETFROM:+0000
TZOFFSETTO:+0000
TZNAME:UTC
DTSTART:20250101T000000
END:STANDARD
END:VTIMEZONE
BEGIN:VEVENT
DTSTART;TZID=UTC:20260314T120000
DTEND;TZID=UTC:20260314T160000
DTSTAMP:20260421T133329
CREATED:20260314T214233Z
LAST-MODIFIED:20260314T214233Z
UID:131-1773489600-1773504000@steubenfgc.com
SUMMARY:Annual Club Picnic
DESCRIPTION:Annual Club Picnic
URL:https://steubenfgc.com/event/annual-club-picnic/
LOCATION:Steuben Fish & Game Club\, 10103 Evans Rd\, Remsen\, 13438\, United States
END:VEVENT
BEGIN:VEVENT
DTSTART;TZID=UTC:20260319T183000
DTEND;TZID=UTC:20260319T203000
DTSTAMP:20260421T133329
CREATED:20260314T210552Z
LAST-MODIFIED:20260314T210552Z
UID:109-1773945000-1773952200@steubenfgc.com
SUMMARY:Board Meeting
DESCRIPTION:
URL:https://steubenfgc.com/event/board-meeting/
LOCATION:Steuben Town Hall\, 9458 Soule Rd\, Remsen\, NY 13438\, New York\, 13438
END:VEVENT
BEGIN:VEVENT
DTSTART;VALUE=DATE:20260509
DTEND;VALUE=DATE:20260510
DTSTAMP:20260421T133329
CREATED:20260314T213323Z
LAST-MODIFIED:20260314T213323Z
UID:116-1778284800-1778371199@steubenfgc.com
SUMMARY:Work Party
DESCRIPTION:First work party of 2026 – meet at the club grounds starting at 8:00am.
URL:https://steubenfgc.com/event/work-party/
LOCATION:Steuben Fish & Game Club\, 10103 Evans Rd\, Remsen\, 13438\, United States
END:VEVENT
BEGIN:VEVENT
DTSTART;TZID=UTC:20260521T183000
DTEND;TZID=UTC:20260521T203000
DTSTAMP:20260421T133329
CREATED:20260314T213605Z
LAST-MODIFIED:20260314T213605Z
UID:120-1779388200-1779395400@steubenfgc.com
SUMMARY:Board Meeting
DESCRIPTION:
URL:https://steubenfgc.com/event/board-meeting-2/
LOCATION:Steuben Town Hall\, 9458 Soule Rd\, Remsen\, NY 13438\, New York\, 13438
END:VEVENT
BEGIN:VEVENT
DTSTART;VALUE=DATE:20260613
DTEND;VALUE=DATE:20260614
DTSTAMP:20260421T133329
CREATED:20260314T213659Z
LAST-MODIFIED:20260314T213659Z
UID:122-1781308800-1781395199@steubenfgc.com
SUMMARY:Work Party
DESCRIPTION:Second work party on club grounds starting at 8:00am.
URL:https://steubenfgc.com/event/work-party-2/
LOCATION:Steuben Fish & Game Club\, 10103 Evans Rd\, Remsen\, 13438\, United States
END:VEVENT
BEGIN:VEVENT
DTSTART;VALUE=DATE:20260711
DTEND;VALUE=DATE:20260712
DTSTAMP:20260421T133329
CREATED:20260314T213752Z
LAST-MODIFIED:20260314T213752Z
UID:124-1783728000-1783814399@steubenfgc.com
SUMMARY:Work Party
DESCRIPTION:Third work party on the club grounds starting at 8:00am.
URL:https://steubenfgc.com/event/work-party-3/
LOCATION:Steuben Fish & Game Club\, 10103 Evans Rd\, Remsen\, 13438\, United States
END:VEVENT
BEGIN:VEVENT
DTSTART;TZID=UTC:20260716T183000
DTEND;TZID=UTC:20260716T203000
DTSTAMP:20260421T133329
CREATED:20260314T214010Z
LAST-MODIFIED:20260314T214010Z
UID:126-1784226600-1784233800@steubenfgc.com
SUMMARY:Board Meeting
DESCRIPTION:Board meeting at 6:30pm at Steuben Town Hall.
URL:https://steubenfgc.com/event/board-meeting-3/
LOCATION:Steuben Town Hall\, 9458 Soule Rd\, Remsen\, NY 13438\, New York\, 13438
END:VEVENT
BEGIN:VEVENT
DTSTART;VALUE=DATE:20260808
DTEND;VALUE=DATE:20260809
DTSTAMP:20260421T133329
CREATED:20260314T214146Z
LAST-MODIFIED:20260314T214146Z
UID:129-1786147200-1786233599@steubenfgc.com
SUMMARY:Work Party
DESCRIPTION:Fourth work party on the club grounds starting at 8:00am.  Annual club picnic will start at noon
URL:https://steubenfgc.com/event/work-party-4/
LOCATION:Steuben Fish & Game Club\, 10103 Evans Rd\, Remsen\, 13438\, United States
END:VEVENT
BEGIN:VEVENT
DTSTART;VALUE=DATE:20260812
DTEND;VALUE=DATE:20260813
DTSTAMP:20260421T133329
CREATED:20260314T214423Z
LAST-MODIFIED:20260314T214423Z
UID:133-1786492800-1786579199@steubenfgc.com
SUMMARY:Start of Membership Dues Collection
DESCRIPTION:Start of the membership dues collection. Our due collection period runs from Aug 12th to\nOct 1st. Payment can be made to Kyle Roberts at any meeting or mailed to his residence at 10900 state route\n365 Remsen Ny 13438 Make checks payable to the Steuben Fish and Game Club.
URL:https://steubenfgc.com/event/start-of-membership-dues-collection/
END:VEVENT
BEGIN:VEVENT
DTSTART;TZID=UTC:20260903T183000
DTEND;TZID=UTC:20260903T203000
DTSTAMP:20260421T133329
CREATED:20260314T214627Z
LAST-MODIFIED:20260314T214627Z
UID:135-1788460200-1788467400@steubenfgc.com
SUMMARY:Board Meeting
DESCRIPTION:Board meeting at 6:30pm at Steuben Town Hall.
URL:https://steubenfgc.com/event/board-meeting-4/
LOCATION:Steuben Town Hall\, 9458 Soule Rd\, Remsen\, NY 13438\, New York\, 13438
END:VEVENT
BEGIN:VEVENT
DTSTART;TZID=UTC:20260924T183000
DTEND;TZID=UTC:20260924T203000
DTSTAMP:20260421T133329
CREATED:20260314T214820Z
LAST-MODIFIED:20260314T214820Z
UID:137-1790274600-1790281800@steubenfgc.com
SUMMARY:General Membership Meeting
DESCRIPTION:General Membership Meeting at Steuben Town hall at 6:30pm.
URL:https://steubenfgc.com/event/general-membership-meeting-2/
LOCATION:Steuben Town Hall\, 9458 Soule Rd\, Remsen\, NY 13438\, New York\, 13438
END:VEVENT
BEGIN:VEVENT
DTSTART;VALUE=DATE:20261001
DTEND;VALUE=DATE:20261002
DTSTAMP:20260421T133329
CREATED:20260314T215230Z
LAST-MODIFIED:20260314T215230Z
UID:139-1790812800-1790899199@steubenfgc.com
SUMMARY:Standard Dues Collection Deadline
DESCRIPTION:Any member who is not paid by this date will be required to pay a $20.00 late fee. No dues will be accepted after October 15th. After October 15th\, if the club membership cap (100) is not filled\, we will draw from the waiting list to fill any available slots.
URL:https://steubenfgc.com/event/standard-dues-collection-deadline/
END:VEVENT
BEGIN:VEVENT
DTSTART;VALUE=DATE:20261015
DTEND;VALUE=DATE:20261016
DTSTAMP:20260421T133329
CREATED:20260314T215350Z
LAST-MODIFIED:20260314T215350Z
UID:141-1792022400-1792108799@steubenfgc.com
SUMMARY:Dues Deadline
DESCRIPTION:No dues will be accepted after October 15th. If the membership cap (100) is not filled\, we will draw from the waiting list to fill any available slots.
URL:https://steubenfgc.com/event/dues-deadline/
END:VEVENT
BEGIN:VEVENT
DTSTART;TZID=UTC:20261119T183000
DTEND;TZID=UTC:20261119T203000
DTSTAMP:20260421T133329
CREATED:20260314T215449Z
LAST-MODIFIED:20260314T215449Z
UID:143-1795113000-1795120200@steubenfgc.com
SUMMARY:Board Meeting
DESCRIPTION:Board meeting at Steuben Town Hall at 6:30PM.
URL:https://steubenfgc.com/event/board-meeting-5/
LOCATION:Steuben Town Hall\, 9458 Soule Rd\, Remsen\, NY 13438\, New York\, 13438
END:VEVENT
BEGIN:VEVENT
DTSTART;VALUE=DATE:20261221
DTEND;VALUE=DATE:20261222
DTSTAMP:20260421T133329
CREATED:20260314T215603Z
LAST-MODIFIED:20260314T215603Z
UID:145-1797811200-1797897599@steubenfgc.com
SUMMARY:Deadline for Board Member Nominations for 2027 Election
DESCRIPTION:Deadline for nominations for Board Members to be elected in January 2027.\nNominations must be made in writing to the Club President. Deadline for request for absentee ballot for the\nJanuary 2027 elections. Request must be made in writing to Club President.
URL:https://steubenfgc.com/event/deadline-for-board-member-nominations-for-2027-election/
END:VEVENT
END:VCALENDAR